BEGIN:VCALENDAR
VERSION:2.0
PRODID:-//Bedford County Visitors Bureau - ECPv6.15.20//NONSGML v1.0//EN
CALSCALE:GREGORIAN
METHOD:PUBLISH
X-ORIGINAL-URL:https://discoverbedfordcounty.com
X-WR-CALDESC:Events for Bedford County Visitors Bureau
REFRESH-INTERVAL;VALUE=DURATION:PT1H
X-Robots-Tag:noindex
X-PUBLISHED-TTL:PT1H
BEGIN:VTIMEZONE
TZID:America/New_York
BEGIN:DAYLIGHT
TZOFFSETFROM:-0500
TZOFFSETTO:-0400
TZNAME:EDT
DTSTART:20250309T070000
END:DAYLIGHT
BEGIN:STANDARD
TZOFFSETFROM:-0400
TZOFFSETTO:-0500
TZNAME:EST
DTSTART:20251102T060000
END:STANDARD
BEGIN:DAYLIGHT
TZOFFSETFROM:-0500
TZOFFSETTO:-0400
TZNAME:EDT
DTSTART:20260308T070000
END:DAYLIGHT
BEGIN:STANDARD
TZOFFSETFROM:-0400
TZOFFSETTO:-0500
TZNAME:EST
DTSTART:20261101T060000
END:STANDARD
BEGIN:DAYLIGHT
TZOFFSETFROM:-0500
TZOFFSETTO:-0400
TZNAME:EDT
DTSTART:20270314T070000
END:DAYLIGHT
BEGIN:STANDARD
TZOFFSETFROM:-0400
TZOFFSETTO:-0500
TZNAME:EST
DTSTART:20271107T060000
END:STANDARD
END:VTIMEZONE
BEGIN:VEVENT
DTSTART;VALUE=DATE:20261128
DTEND;VALUE=DATE:20261220
DTSTAMP:20260419T131506
CREATED:20251202T182526Z
LAST-MODIFIED:20251202T182526Z
UID:10000652-1795824000-1797724799@discoverbedfordcounty.com
SUMMARY:Shop Small Crawl
DESCRIPTION:Shop Small Crawl \nDowntown Bedford \nNovember 28 – December 19 \ndowntownbedford.com
URL:https://discoverbedfordcounty.com/event/shop-small-crawl/
END:VEVENT
BEGIN:VEVENT
DTSTART;VALUE=DATE:20261210
DTEND;VALUE=DATE:20261213
DTSTAMP:20260419T131506
CREATED:20251202T182342Z
LAST-MODIFIED:20251202T182342Z
UID:10000647-1796860800-1797119999@discoverbedfordcounty.com
SUMMARY:Blitzen’s Pop-Up Bar
DESCRIPTION:Blitzen’s Pop-Up Bar \nOmni Bedford Springs Resort & Spa \nNovember 25 – December 31 \nThursdays-Saturdays\, 5pm-10pm \nomnihotels.com/bedford
URL:https://discoverbedfordcounty.com/event/blitzens-pop-up-bar-3/
END:VEVENT
BEGIN:VEVENT
DTSTART;VALUE=DATE:20261211
DTEND;VALUE=DATE:20261214
DTSTAMP:20260419T131506
CREATED:20251202T182820Z
LAST-MODIFIED:20251202T182820Z
UID:10000659-1796947200-1797206399@discoverbedfordcounty.com
SUMMARY:The Best Christmas Pageant Ever
DESCRIPTION:The Best Christmas Pageant Ever \nBedford County Players \nBedford County Playhouse \n1044 Centerville Rd.  Bedford\, PA 15522 \nDecember 4-6 and December 11-13 \nFor tickets\, please call (814)-623-7555 \nOr visit bedfordcountyplayers.org
URL:https://discoverbedfordcounty.com/event/the-best-christmas-pageant-ever-2/
END:VEVENT
END:VCALENDAR