BEGIN:VCALENDAR
VERSION:2.0
PRODID:-//Bedford County Visitors Bureau - ECPv6.15.20//NONSGML v1.0//EN
CALSCALE:GREGORIAN
METHOD:PUBLISH
X-ORIGINAL-URL:https://discoverbedfordcounty.com
X-WR-CALDESC:Events for Bedford County Visitors Bureau
REFRESH-INTERVAL;VALUE=DURATION:PT1H
X-Robots-Tag:noindex
X-PUBLISHED-TTL:PT1H
BEGIN:VTIMEZONE
TZID:America/New_York
BEGIN:DAYLIGHT
TZOFFSETFROM:-0500
TZOFFSETTO:-0400
TZNAME:EDT
DTSTART:20250309T070000
END:DAYLIGHT
BEGIN:STANDARD
TZOFFSETFROM:-0400
TZOFFSETTO:-0500
TZNAME:EST
DTSTART:20251102T060000
END:STANDARD
BEGIN:DAYLIGHT
TZOFFSETFROM:-0500
TZOFFSETTO:-0400
TZNAME:EDT
DTSTART:20260308T070000
END:DAYLIGHT
BEGIN:STANDARD
TZOFFSETFROM:-0400
TZOFFSETTO:-0500
TZNAME:EST
DTSTART:20261101T060000
END:STANDARD
BEGIN:DAYLIGHT
TZOFFSETFROM:-0500
TZOFFSETTO:-0400
TZNAME:EDT
DTSTART:20270314T070000
END:DAYLIGHT
BEGIN:STANDARD
TZOFFSETFROM:-0400
TZOFFSETTO:-0500
TZNAME:EST
DTSTART:20271107T060000
END:STANDARD
END:VTIMEZONE
BEGIN:VEVENT
DTSTART;VALUE=DATE:20261128
DTEND;VALUE=DATE:20261220
DTSTAMP:20260419T113243
CREATED:20251202T182526Z
LAST-MODIFIED:20251202T182526Z
UID:10000652-1795824000-1797724799@discoverbedfordcounty.com
SUMMARY:Shop Small Crawl
DESCRIPTION:Shop Small Crawl \nDowntown Bedford \nNovember 28 – December 19 \ndowntownbedford.com
URL:https://discoverbedfordcounty.com/event/shop-small-crawl/
END:VEVENT
BEGIN:VEVENT
DTSTART;VALUE=DATE:20261203
DTEND;VALUE=DATE:20261206
DTSTAMP:20260419T113243
CREATED:20251202T182336Z
LAST-MODIFIED:20251202T182336Z
UID:10000646-1796256000-1796515199@discoverbedfordcounty.com
SUMMARY:Blitzen’s Pop-Up Bar
DESCRIPTION:Blitzen’s Pop-Up Bar \nOmni Bedford Springs Resort & Spa \nNovember 25 – December 31 \nThursdays-Saturdays\, 5pm-10pm \nomnihotels.com/bedford
URL:https://discoverbedfordcounty.com/event/blitzens-pop-up-bar-2/
END:VEVENT
BEGIN:VEVENT
DTSTART;VALUE=DATE:20261204
DTEND;VALUE=DATE:20261207
DTSTAMP:20260419T113243
CREATED:20251202T182808Z
LAST-MODIFIED:20251202T182808Z
UID:10000658-1796342400-1796601599@discoverbedfordcounty.com
SUMMARY:The Best Christmas Pageant Ever
DESCRIPTION:The Best Christmas Pageant Ever \nBedford County Players \nBedford County Playhouse \n1044 Centerville Rd.  Bedford\, PA 15522 \nDecember 4-6 and December 11-13 \nFor tickets\, please call (814)-623-7555 \nOr visit bedfordcountyplayers.org
URL:https://discoverbedfordcounty.com/event/the-best-christmas-pageant-ever/
END:VEVENT
BEGIN:VEVENT
DTSTART;VALUE=DATE:20261205
DTEND;VALUE=DATE:20261206
DTSTAMP:20260419T113243
CREATED:20251202T182906Z
LAST-MODIFIED:20251202T182906Z
UID:10000661-1796428800-1796515199@discoverbedfordcounty.com
SUMMARY:Christmas Family Fun
DESCRIPTION:Christmas Family Fun \nDowntown Bedford \nDecember 5 \n3pm-6pm \ndowntownbedford.com
URL:https://discoverbedfordcounty.com/event/christmas-family-fun-3/
END:VEVENT
BEGIN:VEVENT
DTSTART;VALUE=DATE:20261205
DTEND;VALUE=DATE:20261206
DTSTAMP:20260419T113243
CREATED:20251202T182843Z
LAST-MODIFIED:20251202T182843Z
UID:10000660-1796428800-1796515199@discoverbedfordcounty.com
SUMMARY:Colonial Cookie Christmas
DESCRIPTION:Colonial Cookie Christmas \nFort Bedford Museum \nDecember 5 \nfortbedfordmuseum.org
URL:https://discoverbedfordcounty.com/event/colonial-cookie-christmas/
END:VEVENT
BEGIN:VEVENT
DTSTART;VALUE=DATE:20261205
DTEND;VALUE=DATE:20261206
DTSTAMP:20260419T113243
CREATED:20251202T182925Z
LAST-MODIFIED:20251202T182925Z
UID:10000662-1796428800-1796515199@discoverbedfordcounty.com
SUMMARY:Old Fashioned Christmas
DESCRIPTION:Old Fashioned Christmas \nOld Bedford Village \n220 Sawblade Rd.  Bedford\, PA 15522 \nDecember 5 \n5pm-9pm \nBring a flashlight \noldbedfordvillage.com
URL:https://discoverbedfordcounty.com/event/old-fashioned-christmas-5/
END:VEVENT
BEGIN:VEVENT
DTSTART;VALUE=DATE:20261205
DTEND;VALUE=DATE:20261207
DTSTAMP:20260419T113243
CREATED:20251202T182658Z
LAST-MODIFIED:20251202T182658Z
UID:10000654-1796428800-1796601599@discoverbedfordcounty.com
SUMMARY:Breakfast at the North Pole
DESCRIPTION:Breakfast at the North Pole \nOmni Bedford Springs Resort & Spa \nSaturdays & Sundays\, November 28 – December 20 \nFor reservations\, please call (814)-624-5633 \nomnihotels.com/bedford
URL:https://discoverbedfordcounty.com/event/breakfast-at-the-north-pole-2/
END:VEVENT
BEGIN:VEVENT
DTSTART;VALUE=DATE:20261205
DTEND;VALUE=DATE:20261207
DTSTAMP:20260419T113243
CREATED:20260304T134227Z
LAST-MODIFIED:20260304T134227Z
UID:10000778-1796428800-1796601599@discoverbedfordcounty.com
SUMMARY:Santa in the Cave
DESCRIPTION:Saturday & Sunday\, December 5 & 6\, 2026\nProfessional Digital Photographs by MJEMS Photography\nBenefits Huntingdon Forum of Churches Fuel Fund\nSHOP Santa’s Little Helpers’ BOGO Holiday Sale!\nWe invite all ages to shop for unique gifts!\nAll holiday\, family\, and clearance items are Buy One Get One Free\nLincoln Caverns\n7703 William Penn Highway – U.S. Route 22\nHuntingdon\, PA 16652\n814-643-0268 \nSanta in the Cave
URL:https://discoverbedfordcounty.com/event/santa-in-the-cave-2/
END:VEVENT
END:VCALENDAR