BEGIN:VCALENDAR
VERSION:2.0
PRODID:-//Bedford County Visitors Bureau - ECPv6.15.20//NONSGML v1.0//EN
CALSCALE:GREGORIAN
METHOD:PUBLISH
X-ORIGINAL-URL:https://discoverbedfordcounty.com
X-WR-CALDESC:Events for Bedford County Visitors Bureau
REFRESH-INTERVAL;VALUE=DURATION:PT1H
X-Robots-Tag:noindex
X-PUBLISHED-TTL:PT1H
BEGIN:VTIMEZONE
TZID:America/New_York
BEGIN:DAYLIGHT
TZOFFSETFROM:-0500
TZOFFSETTO:-0400
TZNAME:EDT
DTSTART:20250309T070000
END:DAYLIGHT
BEGIN:STANDARD
TZOFFSETFROM:-0400
TZOFFSETTO:-0500
TZNAME:EST
DTSTART:20251102T060000
END:STANDARD
BEGIN:DAYLIGHT
TZOFFSETFROM:-0500
TZOFFSETTO:-0400
TZNAME:EDT
DTSTART:20260308T070000
END:DAYLIGHT
BEGIN:STANDARD
TZOFFSETFROM:-0400
TZOFFSETTO:-0500
TZNAME:EST
DTSTART:20261101T060000
END:STANDARD
BEGIN:DAYLIGHT
TZOFFSETFROM:-0500
TZOFFSETTO:-0400
TZNAME:EDT
DTSTART:20270314T070000
END:DAYLIGHT
BEGIN:STANDARD
TZOFFSETFROM:-0400
TZOFFSETTO:-0500
TZNAME:EST
DTSTART:20271107T060000
END:STANDARD
END:VTIMEZONE
BEGIN:VEVENT
DTSTART;VALUE=DATE:20261126
DTEND;VALUE=DATE:20261129
DTSTAMP:20260419T113241
CREATED:20251202T182310Z
LAST-MODIFIED:20251202T182310Z
UID:10000645-1795651200-1795910399@discoverbedfordcounty.com
SUMMARY:Blitzen’s Pop-Up Bar
DESCRIPTION:Blitzen’s Pop-Up Bar \nOmni Bedford Springs Resort & Spa \nNovember 25 – December 31 \nThursdays-Saturdays\, 5pm-10pm \nomnihotels.com/bedford
URL:https://discoverbedfordcounty.com/event/blitzens-pop-up-bar/
END:VEVENT
BEGIN:VEVENT
DTSTART;VALUE=DATE:20261127
DTEND;VALUE=DATE:20261128
DTSTAMP:20260419T113241
CREATED:20251202T182455Z
LAST-MODIFIED:20251202T182455Z
UID:10000651-1795737600-1795823999@discoverbedfordcounty.com
SUMMARY:Turkey Trot
DESCRIPTION:Turkey Trot \nOmni Bedford Springs Resort & Spa \nNovember 27 \n9am \nFor reservations\, please call (814)-624-5633 \nomnihotels.com/bedford
URL:https://discoverbedfordcounty.com/event/turkey-trot/
END:VEVENT
END:VCALENDAR