BEGIN:VCALENDAR
VERSION:2.0
PRODID:-//Bedford County Visitors Bureau - ECPv6.15.20//NONSGML v1.0//EN
CALSCALE:GREGORIAN
METHOD:PUBLISH
X-WR-CALNAME:Bedford County Visitors Bureau
X-ORIGINAL-URL:https://discoverbedfordcounty.com
X-WR-CALDESC:Events for Bedford County Visitors Bureau
REFRESH-INTERVAL;VALUE=DURATION:PT1H
X-Robots-Tag:noindex
X-PUBLISHED-TTL:PT1H
BEGIN:VTIMEZONE
TZID:America/New_York
BEGIN:DAYLIGHT
TZOFFSETFROM:-0500
TZOFFSETTO:-0400
TZNAME:EDT
DTSTART:20250309T070000
END:DAYLIGHT
BEGIN:STANDARD
TZOFFSETFROM:-0400
TZOFFSETTO:-0500
TZNAME:EST
DTSTART:20251102T060000
END:STANDARD
BEGIN:DAYLIGHT
TZOFFSETFROM:-0500
TZOFFSETTO:-0400
TZNAME:EDT
DTSTART:20260308T070000
END:DAYLIGHT
BEGIN:STANDARD
TZOFFSETFROM:-0400
TZOFFSETTO:-0500
TZNAME:EST
DTSTART:20261101T060000
END:STANDARD
BEGIN:DAYLIGHT
TZOFFSETFROM:-0500
TZOFFSETTO:-0400
TZNAME:EDT
DTSTART:20270314T070000
END:DAYLIGHT
BEGIN:STANDARD
TZOFFSETFROM:-0400
TZOFFSETTO:-0500
TZNAME:EST
DTSTART:20271107T060000
END:STANDARD
END:VTIMEZONE
BEGIN:VEVENT
DTSTART;VALUE=DATE:20261002
DTEND;VALUE=DATE:20261005
DTSTAMP:20260419T082209
CREATED:20251202T175200Z
LAST-MODIFIED:20251202T175200Z
UID:10000625-1790899200-1791158399@discoverbedfordcounty.com
SUMMARY:Sweeney Todd
DESCRIPTION:Sweeney Todd \nBedford County Players \nBedford County Playhouse \n1044 Centerville Rd.  Bedford\, PA 15522 \nOctober 2-4 and October 9-11 \nFor tickets\, please call (814)-623-7555 \nor visit bedfordcountyplayers.org
URL:https://discoverbedfordcounty.com/event/sweeney-todd/
END:VEVENT
BEGIN:VEVENT
DTSTART;VALUE=DATE:20261003
DTEND;VALUE=DATE:20261004
DTSTAMP:20260419T082209
CREATED:20251202T175612Z
LAST-MODIFIED:20251202T175612Z
UID:10000630-1790985600-1791071999@discoverbedfordcounty.com
SUMMARY:Fort Bedford Beer Garden
DESCRIPTION:Fort Bedford Beer Garden \nFort Bedford Museum \nOctober 3 & 10 \nfortbedfordmuseum.org
URL:https://discoverbedfordcounty.com/event/fort-bedford-beer-garden/
END:VEVENT
BEGIN:VEVENT
DTSTART;VALUE=DATE:20261003
DTEND;VALUE=DATE:20261004
DTSTAMP:20260419T082209
CREATED:20251202T175714Z
LAST-MODIFIED:20251202T175714Z
UID:10000633-1790985600-1791071999@discoverbedfordcounty.com
SUMMARY:Haunted History Tour
DESCRIPTION:Haunted History Tour \nOctober 3 \nCall for Tickets (814)-623-8891 \nfortbedfordmuseum.org
URL:https://discoverbedfordcounty.com/event/haunted-history-tour/
END:VEVENT
BEGIN:VEVENT
DTSTART;VALUE=DATE:20261003
DTEND;VALUE=DATE:20261004
DTSTAMP:20260419T082209
CREATED:20251202T175453Z
LAST-MODIFIED:20251202T175453Z
UID:10000627-1790985600-1791071999@discoverbedfordcounty.com
SUMMARY:Hootenanny
DESCRIPTION:Hootenanny \nAlum Bank Community Fire Company \n6738 King St. Clair Rd.  Alum Bank\, PA 15521 \nOctober 3 \n814-839-2490 \nalumbankvfc.org
URL:https://discoverbedfordcounty.com/event/hootenanny/
END:VEVENT
BEGIN:VEVENT
DTSTART;VALUE=DATE:20261003
DTEND;VALUE=DATE:20261004
DTSTAMP:20260419T082209
CREATED:20251202T175648Z
LAST-MODIFIED:20251202T175648Z
UID:10000632-1790985600-1791071999@discoverbedfordcounty.com
SUMMARY:Murder Mystery Weekend
DESCRIPTION:Murder Mystery Weekend \nOld Bedford Village \n220 Sawblade Rd.  Bedford\, PA 15522 \nOctober 3 \n6pm-10pm \nPlease arrive by 7:30pm and bring a flashlight \noldbedfordvillage.com
URL:https://discoverbedfordcounty.com/event/murder-mystery-weekend/
END:VEVENT
BEGIN:VEVENT
DTSTART;VALUE=DATE:20261003
DTEND;VALUE=DATE:20261005
DTSTAMP:20260419T082209
CREATED:20251202T175550Z
LAST-MODIFIED:20251202T175550Z
UID:10000629-1790985600-1791158399@discoverbedfordcounty.com
SUMMARY:Fall Foliage Festival
DESCRIPTION:Fall Foliage Festival \nDowntown Bedford \nOctober 3-4 \n9am-5pm \nbedfordfallfoliagefestival.com
URL:https://discoverbedfordcounty.com/event/fall-foliage-festival-6/
END:VEVENT
BEGIN:VEVENT
DTSTART;VALUE=DATE:20261003
DTEND;VALUE=DATE:20261012
DTSTAMP:20260419T082209
CREATED:20251202T175522Z
LAST-MODIFIED:20251202T175522Z
UID:10000628-1790985600-1791763199@discoverbedfordcounty.com
SUMMARY:Quilt Show
DESCRIPTION:Quilt Show \nBedford County Historical Society \n6441 Lincoln Highway  Bedford\, PA 15522 \nOctober 3-11 \nFor more information\, please visit bedfordpahistory.com
URL:https://discoverbedfordcounty.com/event/quilt-show/
END:VEVENT
END:VCALENDAR