BEGIN:VCALENDAR
VERSION:2.0
PRODID:-//Bedford County Visitors Bureau - ECPv6.15.20//NONSGML v1.0//EN
CALSCALE:GREGORIAN
METHOD:PUBLISH
X-WR-CALNAME:Bedford County Visitors Bureau
X-ORIGINAL-URL:https://discoverbedfordcounty.com
X-WR-CALDESC:Events for Bedford County Visitors Bureau
REFRESH-INTERVAL;VALUE=DURATION:PT1H
X-Robots-Tag:noindex
X-PUBLISHED-TTL:PT1H
BEGIN:VTIMEZONE
TZID:America/New_York
BEGIN:DAYLIGHT
TZOFFSETFROM:-0500
TZOFFSETTO:-0400
TZNAME:EDT
DTSTART:20250309T070000
END:DAYLIGHT
BEGIN:STANDARD
TZOFFSETFROM:-0400
TZOFFSETTO:-0500
TZNAME:EST
DTSTART:20251102T060000
END:STANDARD
BEGIN:DAYLIGHT
TZOFFSETFROM:-0500
TZOFFSETTO:-0400
TZNAME:EDT
DTSTART:20260308T070000
END:DAYLIGHT
BEGIN:STANDARD
TZOFFSETFROM:-0400
TZOFFSETTO:-0500
TZNAME:EST
DTSTART:20261101T060000
END:STANDARD
BEGIN:DAYLIGHT
TZOFFSETFROM:-0500
TZOFFSETTO:-0400
TZNAME:EDT
DTSTART:20270314T070000
END:DAYLIGHT
BEGIN:STANDARD
TZOFFSETFROM:-0400
TZOFFSETTO:-0500
TZNAME:EST
DTSTART:20271107T060000
END:STANDARD
END:VTIMEZONE
BEGIN:VEVENT
DTSTART;VALUE=DATE:20260925
DTEND;VALUE=DATE:20260928
DTSTAMP:20260419T082236
CREATED:20251202T174814Z
LAST-MODIFIED:20251202T174814Z
UID:10000621-1790294400-1790553599@discoverbedfordcounty.com
SUMMARY:Coverlet College
DESCRIPTION:Coverlet College \nNational Museum of the American Coverlet \nSeptember 25-27 \nFor more details\, please visit coverletmuseum.org
URL:https://discoverbedfordcounty.com/event/coverlet-college-2/
END:VEVENT
BEGIN:VEVENT
DTSTART;VALUE=DATE:20260926
DTEND;VALUE=DATE:20260928
DTSTAMP:20260419T082236
CREATED:20260120T125511Z
LAST-MODIFIED:20260120T125511Z
UID:10000678-1790380800-1790553599@discoverbedfordcounty.com
SUMMARY:Harvestfest DelGrosso’s Park
DESCRIPTION:4352 E. Pleasant Valley Blvd\nTipton\, PA 16684\n814-684-3538\nwww.mydelgrossopark.com
URL:https://discoverbedfordcounty.com/event/harvestfest-delgrossos-park/
END:VEVENT
BEGIN:VEVENT
DTSTART;VALUE=DATE:20260927
DTEND;VALUE=DATE:20260928
DTSTAMP:20260419T082236
CREATED:20260112T123436Z
LAST-MODIFIED:20260113T165239Z
UID:10000671-1790467200-1790553599@discoverbedfordcounty.com
SUMMARY:Discover Bedford County Hiking Club
DESCRIPTION:
URL:https://discoverbedfordcounty.com/event/discover-bedford-county-hiking-club/2026-09-27/
CATEGORIES:Hiking Club
END:VEVENT
BEGIN:VEVENT
DTSTART;VALUE=DATE:20260927
DTEND;VALUE=DATE:20260928
DTSTAMP:20260419T082236
CREATED:20260409T115743Z
LAST-MODIFIED:20260409T115743Z
UID:10000815-1790467200-1790553599@discoverbedfordcounty.com
SUMMARY:Lifestyle Next Door
DESCRIPTION:
URL:https://discoverbedfordcounty.com/event/lifestyle-next-door-13/
END:VEVENT
END:VCALENDAR