BEGIN:VCALENDAR
VERSION:2.0
PRODID:-//Bedford County Visitors Bureau - ECPv6.15.20//NONSGML v1.0//EN
CALSCALE:GREGORIAN
METHOD:PUBLISH
X-ORIGINAL-URL:https://discoverbedfordcounty.com
X-WR-CALDESC:Events for Bedford County Visitors Bureau
REFRESH-INTERVAL;VALUE=DURATION:PT1H
X-Robots-Tag:noindex
X-PUBLISHED-TTL:PT1H
BEGIN:VTIMEZONE
TZID:America/New_York
BEGIN:DAYLIGHT
TZOFFSETFROM:-0500
TZOFFSETTO:-0400
TZNAME:EDT
DTSTART:20250309T070000
END:DAYLIGHT
BEGIN:STANDARD
TZOFFSETFROM:-0400
TZOFFSETTO:-0500
TZNAME:EST
DTSTART:20251102T060000
END:STANDARD
BEGIN:DAYLIGHT
TZOFFSETFROM:-0500
TZOFFSETTO:-0400
TZNAME:EDT
DTSTART:20260308T070000
END:DAYLIGHT
BEGIN:STANDARD
TZOFFSETFROM:-0400
TZOFFSETTO:-0500
TZNAME:EST
DTSTART:20261101T060000
END:STANDARD
BEGIN:DAYLIGHT
TZOFFSETFROM:-0500
TZOFFSETTO:-0400
TZNAME:EDT
DTSTART:20270314T070000
END:DAYLIGHT
BEGIN:STANDARD
TZOFFSETFROM:-0400
TZOFFSETTO:-0500
TZNAME:EST
DTSTART:20271107T060000
END:STANDARD
END:VTIMEZONE
BEGIN:VEVENT
DTSTART;VALUE=DATE:20260909
DTEND;VALUE=DATE:20260914
DTSTAMP:20260419T082321
CREATED:20251202T174437Z
LAST-MODIFIED:20251202T174437Z
UID:10000615-1788912000-1789343999@discoverbedfordcounty.com
SUMMARY:Farmers & Threshermens Jubilee
DESCRIPTION:Farmers & Threshermens Jubilee \nNew Centerville and Rural Volunteer Fire Company \n3054 Kingwood Rd.  Rockwood\, PA 15557 \nSeptember 9-13 \n814-926-4333
URL:https://discoverbedfordcounty.com/event/farmers-threshermens-jubilee/
END:VEVENT
BEGIN:VEVENT
DTSTART;VALUE=DATE:20260913
DTEND;VALUE=DATE:20260914
DTSTAMP:20260419T082321
CREATED:20260409T115725Z
LAST-MODIFIED:20260409T115725Z
UID:10000814-1789257600-1789343999@discoverbedfordcounty.com
SUMMARY:Lifestyle Next Door
DESCRIPTION:
URL:https://discoverbedfordcounty.com/event/lifestyle-next-door-12/
END:VEVENT
END:VCALENDAR